BEGIN:VCALENDAR
VERSION:2.0
PRODID:-//Indiana IoT Lab - ECPv6.6.4.2//NONSGML v1.0//EN
CALSCALE:GREGORIAN
METHOD:PUBLISH
X-WR-CALNAME:Indiana IoT Lab
X-ORIGINAL-URL:https://indianaiot.com
X-WR-CALDESC:Events for Indiana IoT Lab
REFRESH-INTERVAL;VALUE=DURATION:PT1H
X-Robots-Tag:noindex
X-PUBLISHED-TTL:PT1H
BEGIN:VTIMEZONE
TZID:America/Indiana/Indianapolis
BEGIN:DAYLIGHT
TZOFFSETFROM:-0500
TZOFFSETTO:-0400
TZNAME:EDT
DTSTART:20190310T070000
END:DAYLIGHT
BEGIN:STANDARD
TZOFFSETFROM:-0400
TZOFFSETTO:-0500
TZNAME:EST
DTSTART:20191103T060000
END:STANDARD
END:VTIMEZONE
BEGIN:VEVENT
DTSTART;TZID=America/Indiana/Indianapolis:20190919T180000
DTEND;TZID=America/Indiana/Indianapolis:20190919T200000
DTSTAMP:20260425T102857
CREATED:20190828T141106Z
LAST-MODIFIED:20190828T141106Z
UID:223947-1568916000-1568923200@indianaiot.com
SUMMARY:Artificial Intelligence Machine Learning Robotics Meetup
DESCRIPTION:Details\nAgenda\n6:00pm – 6:30pm – Nameless Catering Mexican bar; networking\n6:30pm – 7:45pm – Tour and information about the IOT lab\n7:45pm – Networking \nThis meeting will be an Introduction of the Internet Of Things lab and a tour some of the many amazing projects they have going on\, from the Machine Learning enabled house to autonomous robots. \nThe cost is $6.00 to help cover the cost of catering for the event\, we will do Mexican for this meeting. \nRegister at Meetup.com
URL:https://indianaiot.com/events/artificial-intelligence-machine-learning-robotics-mu/
LOCATION:Indiana IoT Lab\, 9059 Technology Ln\, Fishers\, 46038\, United States
CATEGORIES:Meetups At IoT Lab
ATTACH;FMTTYPE=image/png:https://indianaiot.com/wp-content/uploads/2019/08/robot-meetup.png
END:VEVENT
END:VCALENDAR